BEGIN:VCALENDAR
VERSION:2.0
PRODID:SchoolNow
CALSCALE:GREGORIAN
BEGIN:VEVENT
UID:f5349108-134a-11f1-be78-0a58a9feac02
DTSTAMP:20260424T203009Z
SUMMARY:South High Graduation
URL;VALUE=URI:https://www.tusd.org/schools/shs-old/calendar/8873542/south-h
 igh-graduation
DTSTART:20260611T010000Z
DTEND:20260611T020000Z
END:VEVENT
END:VCALENDAR
