BEGIN:VCALENDAR
VERSION:2.0
PRODID:SchoolNow
CALSCALE:GREGORIAN
BEGIN:VEVENT
UID:60c3c1ce-cfc5-11f0-b803-029c34ed1631
DTSTAMP:20260424T142509Z
SUMMARY:CAASPP Math (Odd/Even/Odd/Even)
URL;VALUE=URI:https://www.tusd.org/schools/shs-old/calendar/8815795/caaspp-
 math-odd-even-odd-even
DTSTART;VALUE=DATE:20260518
DTEND;VALUE=DATE:20260522
END:VEVENT
END:VCALENDAR
