BEGIN:VCALENDAR
VERSION:2.0
PRODID:SchoolNow
CALSCALE:GREGORIAN
BEGIN:VEVENT
UID:60c3bfc6-cfc5-11f0-b654-029c34ed1631
DTSTAMP:20260424T142509Z
SUMMARY:CAASPP ELA (Odd/Even/Odd/Even)
URL;VALUE=URI:https://www.tusd.org/schools/shs-old/calendar/8815794/caaspp-
 ela-odd-even-odd-even
DTSTART;VALUE=DATE:20260413
DTEND;VALUE=DATE:20260417
END:VEVENT
END:VCALENDAR
