BEGIN:VCALENDAR
VERSION:2.0
PRODID:SchoolNow
CALSCALE:GREGORIAN
BEGIN:VEVENT
UID:60c390aa-cfc5-11f0-ab5d-029c34ed1631
DTSTAMP:20260424T142509Z
SUMMARY:CAST Testing (Odd/Even)
URL;VALUE=URI:https://www.tusd.org/schools/shs-old/calendar/8815793/cast-te
 sting-odd-even
DTSTART;VALUE=DATE:20260409
DTEND;VALUE=DATE:20260411
END:VEVENT
END:VCALENDAR
