BEGIN:VCALENDAR
VERSION:2.0
PRODID:SchoolNow
CALSCALE:GREGORIAN
BEGIN:VEVENT
UID:f1881494-8916-11f0-a3b4-02ba44be3787
DTSTAMP:20260424T142509Z
SUMMARY:Senior Parent Activity Night
LOCATION:Cafe
URL;VALUE=URI:https://www.tusd.org/schools/shs-old/calendar/8576945/senior-
 parent-activity-night
DTSTART:20260409T013000Z
DTEND:20260409T023000Z
END:VEVENT
END:VCALENDAR
