BEGIN:VCALENDAR
VERSION:2.0
PRODID:SchoolNow
CALSCALE:GREGORIAN
BEGIN:VEVENT
UID:280ebb88-5075-11f0-b594-0ee4c332bf45
DTSTAMP:20260424T142509Z
SUMMARY:SSC School Site Council
URL;VALUE=URI:https://www.tusd.org/schools/shs-old/calendar/8345346/ssc-sch
 ool-site-council
DTSTART:20260519T224500Z
DTEND:20260519T234500Z
END:VEVENT
END:VCALENDAR
