BEGIN:VCALENDAR
VERSION:2.0
PRODID:SchoolNow
CALSCALE:GREGORIAN
BEGIN:VEVENT
UID:280eb980-5075-11f0-a72a-0ee4c332bf45
DTSTAMP:20260424T203009Z
SUMMARY:SSC School Site Council
URL;VALUE=URI:https://www.tusd.org/schools/shs-old/calendar/8345344/ssc-sch
 ool-site-council
DTSTART:20260210T234500Z
DTEND:20260211T004500Z
END:VEVENT
END:VCALENDAR
