BEGIN:VCALENDAR
VERSION:2.0
PRODID:SchoolNow
CALSCALE:GREGORIAN
BEGIN:VEVENT
UID:50e65cc2-4cac-11f0-be74-0a58a9feac02
DTSTAMP:20260424T142509Z
SUMMARY:Prom at AVI in Irvine
URL;VALUE=URI:https://www.tusd.org/schools/shs-old/calendar/8326118/prom-at
 -avi-in-irvine
DTSTART:20260531T000000Z
DTEND:20260531T060000Z
END:VEVENT
END:VCALENDAR
