BEGIN:VCALENDAR
VERSION:2.0
PRODID:SchoolNow
CALSCALE:GREGORIAN
BEGIN:VEVENT
UID:50e65be6-4cac-11f0-ba16-0a58a9feac02
DTSTAMP:20260424T203009Z
SUMMARY:Baccaulaureate
URL;VALUE=URI:https://www.tusd.org/schools/shs-old/calendar/8326116/baccaul
 aureate
DTSTART:20260606T190000Z
DTEND:20260606T220000Z
END:VEVENT
END:VCALENDAR
