BEGIN:VCALENDAR
VERSION:2.0
PRODID:SchoolNow
CALSCALE:GREGORIAN
BEGIN:VEVENT
UID:50e65b00-4cac-11f0-8c9d-0a58a9feac02
DTSTAMP:20260424T203009Z
SUMMARY:DC Meeting
URL;VALUE=URI:https://www.tusd.org/schools/shs-old/calendar/8326114/dc-meet
 ing
DTSTART:20260601T223000Z
DTEND:20260601T233000Z
END:VEVENT
END:VCALENDAR
