BEGIN:VCALENDAR
VERSION:2.0
PRODID:SchoolNow
CALSCALE:GREGORIAN
BEGIN:VEVENT
UID:50e65a24-4cac-11f0-a1b4-0a58a9feac02
DTSTAMP:20260424T142509Z
SUMMARY:Class Comp #4
URL;VALUE=URI:https://www.tusd.org/schools/shs-old/calendar/8326111/class-c
 omp-4
DTSTART:20260529T180000Z
DTEND:20260529T190000Z
END:VEVENT
END:VCALENDAR
