BEGIN:VCALENDAR
VERSION:2.0
PRODID:SchoolNow
CALSCALE:GREGORIAN
BEGIN:VEVENT
UID:50e6593e-4cac-11f0-b813-0a58a9feac02
DTSTAMP:20260424T142509Z
SUMMARY:Theatre One Acts (Black Box)
URL;VALUE=URI:https://www.tusd.org/schools/shs-old/calendar/8326109/theatre
 -one-acts-black-box
DTSTART:20260530T020000Z
DTEND:20260530T040000Z
END:VEVENT
END:VCALENDAR
