BEGIN:VCALENDAR
VERSION:2.0
PRODID:SchoolNow
CALSCALE:GREGORIAN
BEGIN:VEVENT
UID:50e65768-4cac-11f0-b2ab-0a58a9feac02
DTSTAMP:20260424T142509Z
SUMMARY:Band Spring Concert (PAC)
URL;VALUE=URI:https://www.tusd.org/schools/shs-old/calendar/8326104/band-sp
 ring-concert-pac
DTSTART:20260528T020000Z
DTEND:20260528T040000Z
END:VEVENT
END:VCALENDAR
