BEGIN:VCALENDAR
VERSION:2.0
PRODID:SchoolNow
CALSCALE:GREGORIAN
BEGIN:VEVENT
UID:50e65682-4cac-11f0-a972-0a58a9feac02
DTSTAMP:20260424T142509Z
SUMMARY:Choir Pops Concert (PAC)
URL;VALUE=URI:https://www.tusd.org/schools/shs-old/calendar/8326101/choir-p
 ops-concert-pac
DTSTART:20260523T020000Z
DTEND:20260523T040000Z
END:VEVENT
END:VCALENDAR
