BEGIN:VCALENDAR
VERSION:2.0
PRODID:SchoolNow
CALSCALE:GREGORIAN
BEGIN:VEVENT
UID:50e6559c-4cac-11f0-a7c4-0a58a9feac02
DTSTAMP:20260424T142509Z
SUMMARY:Spartan Laurels
URL;VALUE=URI:https://www.tusd.org/schools/shs-old/calendar/8326099/spartan
 -laurels
DTSTART:20260521T010000Z
DTEND:20260521T030000Z
END:VEVENT
END:VCALENDAR
