BEGIN:VCALENDAR
VERSION:2.0
PRODID:SchoolNow
CALSCALE:GREGORIAN
BEGIN:VEVENT
UID:50e654b6-4cac-11f0-b76c-0a58a9feac02
DTSTAMP:20260424T203009Z
SUMMARY:Choir Coffee House (Cafe)
URL;VALUE=URI:https://www.tusd.org/schools/shs-old/calendar/8326096/choir-c
 offee-house-cafe
DTSTART:20260131T020000Z
DTEND:20260131T040000Z
END:VEVENT
END:VCALENDAR
