BEGIN:VCALENDAR
VERSION:2.0
PRODID:SchoolNow
CALSCALE:GREGORIAN
BEGIN:VEVENT
UID:50e653d0-4cac-11f0-9847-0a58a9feac02
DTSTAMP:20260424T203009Z
SUMMARY:Finals (Early Out)
URL;VALUE=URI:https://www.tusd.org/schools/shs-old/calendar/8326094/finals-
 early-out
DTSTART;VALUE=DATE:20260121
DTEND;VALUE=DATE:20260124
END:VEVENT
END:VCALENDAR
