BEGIN:VCALENDAR
VERSION:2.0
PRODID:SchoolNow
CALSCALE:GREGORIAN
BEGIN:VEVENT
UID:5c2e5486-4bad-11f0-90ae-0294d103e143
DTSTAMP:20260424T203009Z
SUMMARY:NO Late Start
URL;VALUE=URI:https://www.tusd.org/schools/shs-old/calendar/8319107/no-late
 -start
DTSTART;VALUE=DATE:20260602
DTEND;VALUE=DATE:20260603
END:VEVENT
END:VCALENDAR
