BEGIN:VCALENDAR
VERSION:2.0
PRODID:SchoolNow
CALSCALE:GREGORIAN
BEGIN:VEVENT
UID:5c2e53b4-4bad-11f0-acca-0294d103e143
DTSTAMP:20260424T142509Z
SUMMARY:Late Start
URL;VALUE=URI:https://www.tusd.org/schools/shs-old/calendar/8319105/late-st
 art
DTSTART;VALUE=DATE:20260526
DTEND;VALUE=DATE:20260527
END:VEVENT
END:VCALENDAR
