BEGIN:VCALENDAR
VERSION:2.0
PRODID:SchoolNow
CALSCALE:GREGORIAN
BEGIN:VEVENT
UID:5c2e52d8-4bad-11f0-9d95-0294d103e143
DTSTAMP:20260424T142509Z
SUMMARY:NO Late Start - CAASPP Testing
URL;VALUE=URI:https://www.tusd.org/schools/shs-old/calendar/8319104/no-late
 -start-caaspp-testing
DTSTART;VALUE=DATE:20260519
DTEND;VALUE=DATE:20260520
END:VEVENT
END:VCALENDAR
