BEGIN:VCALENDAR
VERSION:2.0
PRODID:SchoolNow
CALSCALE:GREGORIAN
BEGIN:VEVENT
UID:5c2e4f5e-4bad-11f0-a2fd-0294d103e143
DTSTAMP:20260424T142509Z
SUMMARY:Late Start
URL;VALUE=URI:https://www.tusd.org/schools/shs-old/calendar/8319096/late-st
 art
DTSTART;VALUE=DATE:20260421
DTEND;VALUE=DATE:20260422
END:VEVENT
END:VCALENDAR
