BEGIN:VCALENDAR
VERSION:2.0
PRODID:SchoolNow
CALSCALE:GREGORIAN
BEGIN:VEVENT
UID:5c2e4e6e-4bad-11f0-a96c-0294d103e143
DTSTAMP:20260424T142509Z
SUMMARY:NO Late Start - CAASPP Testing
URL;VALUE=URI:https://www.tusd.org/schools/shs-old/calendar/8319093/no-late
 -start-caaspp-testing
DTSTART;VALUE=DATE:20260414
DTEND;VALUE=DATE:20260415
END:VEVENT
END:VCALENDAR
