BEGIN:VCALENDAR
VERSION:2.0
PRODID:SchoolNow
CALSCALE:GREGORIAN
BEGIN:VEVENT
UID:5c2e4a04-4bad-11f0-9045-0294d103e143
DTSTAMP:20260424T142509Z
SUMMARY:Late Start
URL;VALUE=URI:https://www.tusd.org/schools/shs-old/calendar/8319084/late-st
 art
DTSTART;VALUE=DATE:20260303
DTEND;VALUE=DATE:20260304
END:VEVENT
END:VCALENDAR
