BEGIN:VCALENDAR
VERSION:2.0
PRODID:SchoolNow
CALSCALE:GREGORIAN
BEGIN:VEVENT
UID:5c2e4766-4bad-11f0-84fa-0294d103e143
DTSTAMP:20260424T203009Z
SUMMARY:Late Start
URL;VALUE=URI:https://www.tusd.org/schools/shs-old/calendar/8319078/late-st
 art
DTSTART;VALUE=DATE:20260210
DTEND;VALUE=DATE:20260211
END:VEVENT
END:VCALENDAR
