BEGIN:VCALENDAR
VERSION:2.0
PRODID:SchoolNow
CALSCALE:GREGORIAN
BEGIN:VEVENT
UID:5c2e44b4-4bad-11f0-9352-0294d103e143
DTSTAMP:20260424T203009Z
SUMMARY:NO Late Start - Finals Week
URL;VALUE=URI:https://www.tusd.org/schools/shs-old/calendar/8319073/no-late
 -start-finals-week
DTSTART;VALUE=DATE:20260120
DTEND;VALUE=DATE:20260121
END:VEVENT
END:VCALENDAR
