BEGIN:VCALENDAR
VERSION:2.0
PRODID:SchoolNow
CALSCALE:GREGORIAN
BEGIN:VEVENT
UID:5c2e43c4-4bad-11f0-bf53-0294d103e143
DTSTAMP:20260424T203009Z
SUMMARY:Late Start
URL;VALUE=URI:https://www.tusd.org/schools/shs-old/calendar/8319071/late-st
 art
DTSTART;VALUE=DATE:20260113
DTEND;VALUE=DATE:20260114
END:VEVENT
END:VCALENDAR
