BEGIN:VCALENDAR
VERSION:2.0
PRODID:SchoolNow
CALSCALE:GREGORIAN
BEGIN:VEVENT
UID:5c09dea8-4bad-11f0-a5a0-0294d103e143
DTSTAMP:20260424T203009Z
SUMMARY:Students Last Day
URL;VALUE=URI:https://www.tusd.org/schools/shs-old/calendar/8318982/student
 s-last-day
DTSTART;VALUE=DATE:20260611
DTEND;VALUE=DATE:20260612
END:VEVENT
END:VCALENDAR
