BEGIN:VCALENDAR
VERSION:2.0
PRODID:SchoolNow
CALSCALE:GREGORIAN
BEGIN:VEVENT
UID:5c09dc46-4bad-11f0-ba24-0294d103e143
DTSTAMP:20260424T203009Z
SUMMARY:End of 1st Semester
URL;VALUE=URI:https://www.tusd.org/schools/shs-old/calendar/8318980/end-of-
 1st-semester
DTSTART;VALUE=DATE:20260123
DTEND;VALUE=DATE:20260124
END:VEVENT
END:VCALENDAR
