BEGIN:VCALENDAR
VERSION:2.0
PRODID:SchoolNow
CALSCALE:GREGORIAN
BEGIN:VEVENT
UID:60e3ac4a-4b14-11f0-8a44-0a58a9feac02
DTSTAMP:20260424T203009Z
SUMMARY:Graduation Day
URL;VALUE=URI:https://www.tusd.org/schools/shs-old/calendar/8312062/graduat
 ion-day
DTSTART;VALUE=DATE:20260610
DTEND;VALUE=DATE:20260611
END:VEVENT
END:VCALENDAR
