BEGIN:VCALENDAR
VERSION:2.0
PRODID:SchoolNow
CALSCALE:GREGORIAN
BEGIN:VEVENT
UID:60e3a236-4b14-11f0-94e8-0a58a9feac02
DTSTAMP:20260424T203009Z
SUMMARY:Presidents' Day - NO SCHOOL
URL;VALUE=URI:https://www.tusd.org/schools/shs-old/calendar/8312044/preside
 nts-day-no-school
DTSTART;VALUE=DATE:20260216
DTEND;VALUE=DATE:20260217
END:VEVENT
END:VCALENDAR
