BEGIN:VCALENDAR
VERSION:2.0
PRODID:SchoolNow
CALSCALE:GREGORIAN
BEGIN:VEVENT
UID:60e3a146-4b14-11f0-bafd-0a58a9feac02
DTSTAMP:20260424T203009Z
SUMMARY:Lincoln's Birthday - NO SCHOOL
URL;VALUE=URI:https://www.tusd.org/schools/shs-old/calendar/8312042/lincoln
 s-birthday-no-school
DTSTART;VALUE=DATE:20260209
DTEND;VALUE=DATE:20260210
END:VEVENT
END:VCALENDAR
