BEGIN:VCALENDAR
VERSION:2.0
PRODID:SchoolNow
CALSCALE:GREGORIAN
BEGIN:VEVENT
UID:60e3a060-4b14-11f0-82da-0a58a9feac02
DTSTAMP:20260424T203009Z
SUMMARY:Martin Luther King Jr. Day - NO SCHOOL
URL;VALUE=URI:https://www.tusd.org/schools/shs-old/calendar/8312040/martin-
 luther-king-jr-day-no-school
DTSTART;VALUE=DATE:20260119
DTEND;VALUE=DATE:20260120
END:VEVENT
END:VCALENDAR
