BEGIN:VCALENDAR
VERSION:2.0
PRODID:SchoolNow
CALSCALE:GREGORIAN
BEGIN:VEVENT
UID:60e39f70-4b14-11f0-b726-0a58a9feac02
DTSTAMP:20260424T203009Z
SUMMARY:Winter Break - NO SCHOOL
URL;VALUE=URI:https://www.tusd.org/schools/shs-old/calendar/8312039/winter-
 break-no-school
DTSTART;VALUE=DATE:20260102
DTEND;VALUE=DATE:20260103
END:VEVENT
END:VCALENDAR
