BEGIN:VCALENDAR
VERSION:2.0
PRODID:SchoolNow
CALSCALE:GREGORIAN
BEGIN:VEVENT
UID:60e39da4-4b14-11f0-923a-0a58a9feac02
DTSTAMP:20260424T203009Z
SUMMARY:New Year's Eve - NO SCHOOL
URL;VALUE=URI:https://www.tusd.org/schools/shs-old/calendar/8312035/new-yea
 rs-eve-no-school
DTSTART;VALUE=DATE:20251231
DTEND;VALUE=DATE:20260101
END:VEVENT
END:VCALENDAR
