BEGIN:VCALENDAR
VERSION:2.0
PRODID:SchoolNow
CALSCALE:GREGORIAN
BEGIN:VEVENT
UID:60e39ca0-4b14-11f0-bbc8-0a58a9feac02
DTSTAMP:20260424T203009Z
SUMMARY:Winter Break - NO SCHOOL
URL;VALUE=URI:https://www.tusd.org/schools/shs-old/calendar/8312034/winter-
 break-no-school
DTSTART;VALUE=DATE:20251229
DTEND;VALUE=DATE:20251231
END:VEVENT
END:VCALENDAR
