BEGIN:VCALENDAR
VERSION:2.0
PRODID:SchoolNow
CALSCALE:GREGORIAN
BEGIN:VEVENT
UID:5adfd136-2470-11f0-97ba-0a58a9feac02
DTSTAMP:20260424T203009Z
SUMMARY:Vision and Hearing Testing
URL;VALUE=URI:https://www.tusd.org/schools/shs-old/calendar/8026817/vision-
 and-hearing-testing
DTSTART;VALUE=DATE:20260226
DTEND;VALUE=DATE:20260227
END:VEVENT
END:VCALENDAR
