BEGIN:VCALENDAR
VERSION:2.0
PRODID:SchoolNow
CALSCALE:GREGORIAN
BEGIN:VEVENT
UID:b95e3c1e-3da3-11f1-9ac3-0a58a9feac02
DTSTAMP:20260421T170122Z
SUMMARY:Picture Retake Day
URL;VALUE=URI:https://www.tusd.org/schools/seaside/calendar/9009611/picture
 -retake-day
DTSTART;VALUE=DATE:20261029
DTEND;VALUE=DATE:20261030
END:VEVENT
END:VCALENDAR
