BEGIN:VCALENDAR
VERSION:2.0
PRODID:SchoolNow
CALSCALE:GREGORIAN
BEGIN:VEVENT
UID:9daaccee-3da3-11f1-88f8-0a58a9feac02
DTSTAMP:20260421T170035Z
SUMMARY:Picture Day
URL;VALUE=URI:https://www.tusd.org/schools/seaside/calendar/9009610/picture
 -day
DTSTART;VALUE=DATE:20260831
DTEND;VALUE=DATE:20260901
END:VEVENT
END:VCALENDAR
