BEGIN:VCALENDAR
VERSION:2.0
PRODID:SchoolNow
CALSCALE:GREGORIAN
BEGIN:VEVENT
UID:40668320-3da3-11f1-b81f-0affda22389f
DTSTAMP:20260421T165759Z
SUMMARY:Senior Walk
URL;VALUE=URI:https://www.tusd.org/schools/seaside/calendar/9009609/senior-
 walk
DTSTART:20260609T203000Z
DTEND:20260609T213000Z
END:VEVENT
END:VCALENDAR
