BEGIN:VCALENDAR
VERSION:2.0
PRODID:SchoolNow
CALSCALE:GREGORIAN
BEGIN:VEVENT
UID:7b1bd172-2224-11f1-afb7-0a58a9feac02
DTSTAMP:20260317T171230Z
SUMMARY:Track Meet
URL;VALUE=URI:https://www.tusd.org/schools/seaside/calendar/8925613/track-m
 eet
DTSTART:20260529T213000Z
DTEND:20260530T003000Z
END:VEVENT
END:VCALENDAR
