BEGIN:VCALENDAR
VERSION:2.0
PRODID:SchoolNow
CALSCALE:GREGORIAN
BEGIN:VEVENT
UID:95c5f81e-2223-11f1-aad6-0a58a9feac02
DTSTAMP:20260317T170605Z
SUMMARY:TK/K Tour
URL;VALUE=URI:https://www.tusd.org/schools/seaside/calendar/8925610/tk-k-to
 ur
DTSTART:20260317T161500Z
DTEND:20260317T171500Z
END:VEVENT
END:VCALENDAR
