BEGIN:VCALENDAR
VERSION:2.0
PRODID:SchoolNow
CALSCALE:GREGORIAN
BEGIN:VEVENT
UID:9b7c32d0-ec01-11f0-9172-02095609f2c5
DTSTAMP:20260107T194649Z
SUMMARY:TK Tour
URL;VALUE=URI:https://www.tusd.org/schools/seaside/calendar/8832482/tk-tour
DTSTART:20260217T173000Z
DTEND:20260217T183000Z
END:VEVENT
END:VCALENDAR
