BEGIN:VCALENDAR
VERSION:2.0
PRODID:SchoolNow
CALSCALE:GREGORIAN
BEGIN:VEVENT
UID:37877de2-ea63-11f0-8829-0a58a9feac02
DTSTAMP:20260303T163203Z
SUMMARY:Portfolio Day
URL;VALUE=URI:https://www.tusd.org/schools/seaside/calendar/8828881/portfol
 io-day
DTSTART:20260515T210000Z
DTEND:20260515T220000Z
END:VEVENT
END:VCALENDAR
