BEGIN:VCALENDAR
VERSION:2.0
PRODID:SchoolNow
CALSCALE:GREGORIAN
BEGIN:VEVENT
UID:39d01ef2-ea62-11f0-9122-0eed8f2d95bd
DTSTAMP:20260105T181324Z
SUMMARY:President's Day No School
URL;VALUE=URI:https://www.tusd.org/schools/seaside/calendar/8828875/preside
 nts-day-no-school
DTSTART;VALUE=DATE:20260105
DTEND;VALUE=DATE:20260106
END:VEVENT
END:VCALENDAR
