BEGIN:VCALENDAR
VERSION:2.0
PRODID:SchoolNow
CALSCALE:GREGORIAN
BEGIN:VEVENT
UID:1f799b8c-ea62-11f0-b865-0e143c533c43
DTSTAMP:20260105T181240Z
SUMMARY:Spring Pictures
URL;VALUE=URI:https://www.tusd.org/schools/seaside/calendar/8828874/spring-
 pictures
DTSTART;VALUE=DATE:20260205
DTEND;VALUE=DATE:20260206
END:VEVENT
END:VCALENDAR
