BEGIN:VCALENDAR
VERSION:2.0
PRODID:SchoolNow
CALSCALE:GREGORIAN
BEGIN:VEVENT
UID:a0e993b2-ea61-11f0-9f06-0affef73b657
DTSTAMP:20260105T180908Z
SUMMARY:MLK Day No School
URL;VALUE=URI:https://www.tusd.org/schools/seaside/calendar/8828872/mlk-day
 -no-school
DTSTART;VALUE=DATE:20260119
DTEND;VALUE=DATE:20260120
END:VEVENT
END:VCALENDAR
