BEGIN:VCALENDAR
VERSION:2.0
PRODID:SchoolNow
CALSCALE:GREGORIAN
BEGIN:VEVENT
UID:6d3b1dec-ea61-11f0-99f0-0affef73b657
DTSTAMP:20260105T180741Z
SUMMARY:No School
URL;VALUE=URI:https://www.tusd.org/schools/seaside/calendar/8828871/no-scho
 ol
DTSTART;VALUE=DATE:20260209
DTEND;VALUE=DATE:20260210
END:VEVENT
END:VCALENDAR
