BEGIN:VCALENDAR
VERSION:2.0
PRODID:SchoolNow
CALSCALE:GREGORIAN
BEGIN:VEVENT
UID:6c3c975a-ea60-11f0-bb18-0a58a9feac02
DTSTAMP:20260105T180030Z
SUMMARY:Parent Conference 2:12 Dismissal
URL;VALUE=URI:https://www.tusd.org/schools/seaside/calendar/8828870/parent-
 conference-2-12-dismissal
DTSTART;VALUE=DATE:20260120
DTEND;VALUE=DATE:20260130
END:VEVENT
END:VCALENDAR
