BEGIN:VCALENDAR
VERSION:2.0
PRODID:SchoolNow
CALSCALE:GREGORIAN
BEGIN:VEVENT
UID:8eb398f0-8dc8-11f0-8939-0e5e325a8125
DTSTAMP:20250909T220137Z
SUMMARY:Back To School Night
URL;VALUE=URI:https://www.tusd.org/schools/seaside/calendar/8602054/back-to
 -school-night
DTSTART:20250919T000000Z
DTEND:20250919T010000Z
END:VEVENT
END:VCALENDAR
