BEGIN:VCALENDAR
VERSION:2.0
PRODID:SchoolNow
CALSCALE:GREGORIAN
BEGIN:VEVENT
UID:6c07d01e-7220-11f0-b120-029cfcd0439f
DTSTAMP:20250805T172002Z
SUMMARY:Fall Break
URL;VALUE=URI:https://www.tusd.org/schools/seaside/calendar/8473110/fall-br
 eak
DTSTART;VALUE=DATE:20251124
DTEND;VALUE=DATE:20251130
END:VEVENT
END:VCALENDAR
